Package: motifTestR Version: 1.2.1 Command: /home/biocbuild/R/R/bin/R CMD build --keep-empty-dirs --no-resave-data motifTestR StartedAt: 2025-02-04 01:09:45 -0000 (Tue, 04 Feb 2025) EndedAt: 2025-02-04 01:11:41 -0000 (Tue, 04 Feb 2025) EllapsedTime: 116.0 seconds RetCode: 0 Status: OK PackageFile: motifTestR_1.2.1.tar.gz PackageFileSize: 867.5 KiB