Package: motifTestR Version: 1.2.1 Command: /home/biocbuild/R/R/bin/R CMD INSTALL motifTestR StartedAt: 2025-02-03 20:33:04 -0000 (Mon, 03 Feb 2025) EndedAt: 2025-02-03 20:33:22 -0000 (Mon, 03 Feb 2025) EllapsedTime: 17.7 seconds RetCode: 0 Status: OK