Package: motifbreakR Version: 2.20.0 Command: rm -rf motifbreakR.buildbin-libdir && mkdir motifbreakR.buildbin-libdir && /Users/biocbuild/BBS/utils/build-universal.sh motifbreakR_2.20.0.tar.gz /Library/Frameworks/R.framework/Resources/bin/R motifbreakR.buildbin-libdir StartedAt: 2025-02-01 15:50:30 -0500 (Sat, 01 Feb 2025) EndedAt: 2025-02-01 15:51:56 -0500 (Sat, 01 Feb 2025) EllapsedTime: 85.7 seconds RetCode: 0 Status: OK PackageFile: motifbreakR_2.20.0.tgz PackageFileSize: 2.444 MiB