Package: motifbreakR Version: 2.20.0 Command: /Library/Frameworks/R.framework/Resources/bin/R CMD build --keep-empty-dirs --no-resave-data motifbreakR StartedAt: 2025-01-31 03:51:43 -0500 (Fri, 31 Jan 2025) EndedAt: 2025-01-31 03:59:02 -0500 (Fri, 31 Jan 2025) EllapsedTime: 439.3 seconds RetCode: 0 Status: OK PackageFile: motifbreakR_2.20.0.tar.gz PackageFileSize: 2.49 MiB