Package: motifbreakR Version: 2.20.0 Command: /Library/Frameworks/R.framework/Resources/bin/R CMD build --keep-empty-dirs --no-resave-data motifbreakR StartedAt: 2025-01-30 20:58:38 -0500 (Thu, 30 Jan 2025) EndedAt: 2025-01-30 21:24:33 -0500 (Thu, 30 Jan 2025) EllapsedTime: 1555.1 seconds RetCode: 0 Status: OK PackageFile: motifbreakR_2.20.0.tar.gz PackageFileSize: 2.494 MiB