Package: motifbreakR Version: 2.20.0 Command: F:\biocbuild\bbs-3.20-bioc\R\bin\R.exe CMD INSTALL motifbreakR StartedAt: 2025-02-03 17:04:29 -0500 (Mon, 03 Feb 2025) EndedAt: 2025-02-03 17:05:51 -0500 (Mon, 03 Feb 2025) EllapsedTime: 81.9 seconds RetCode: 0 Status: OK