Package: motifbreakR Version: 2.20.0 Command: /home/biocbuild/R/R/bin/R CMD build --keep-empty-dirs --no-resave-data motifbreakR StartedAt: 2025-02-04 01:08:17 -0000 (Tue, 04 Feb 2025) EndedAt: 2025-02-04 01:10:11 -0000 (Tue, 04 Feb 2025) EllapsedTime: 114.0 seconds RetCode: 1 Status: ERROR PackageFile: None PackageFileSize: NA