Package: motifbreakR Version: 2.20.0 Command: /home/biocbuild/R/R/bin/R CMD INSTALL motifbreakR StartedAt: 2025-01-30 20:46:31 -0000 (Thu, 30 Jan 2025) EndedAt: 2025-01-30 20:47:57 -0000 (Thu, 30 Jan 2025) EllapsedTime: 85.9 seconds RetCode: 0 Status: OK