Package: motifmatchr Version: 1.28.0 Command: rm -rf motifmatchr.buildbin-libdir && mkdir motifmatchr.buildbin-libdir && /Users/biocbuild/BBS/utils/build-universal.sh motifmatchr_1.28.0.tar.gz /Library/Frameworks/R.framework/Resources/bin/R motifmatchr.buildbin-libdir StartedAt: 2025-02-01 15:50:50 -0500 (Sat, 01 Feb 2025) EndedAt: 2025-02-01 15:52:08 -0500 (Sat, 01 Feb 2025) EllapsedTime: 77.9 seconds RetCode: 0 Status: OK PackageFile: motifmatchr_1.28.0.tgz PackageFileSize: 182.7 KiB