Package: motifmatchr Version: 1.28.0 Command: /Library/Frameworks/R.framework/Resources/bin/R CMD build --keep-empty-dirs --no-resave-data motifmatchr StartedAt: 2025-02-04 04:03:01 -0500 (Tue, 04 Feb 2025) EndedAt: 2025-02-04 04:05:49 -0500 (Tue, 04 Feb 2025) EllapsedTime: 168.0 seconds RetCode: 0 Status: OK PackageFile: motifmatchr_1.28.0.tar.gz PackageFileSize: 51.97 KiB