Package: motifmatchr Version: 1.28.0 Command: /Library/Frameworks/R.framework/Resources/bin/R CMD check --install=check:motifmatchr.install-out.txt --library=/Library/Frameworks/R.framework/Resources/library --no-vignettes --timings motifmatchr_1.28.0.tar.gz StartedAt: 2025-02-04 06:42:10 -0500 (Tue, 04 Feb 2025) EndedAt: 2025-02-04 06:52:21 -0500 (Tue, 04 Feb 2025) EllapsedTime: 610.9 seconds RetCode: 0 Status: OK CheckDir: motifmatchr.Rcheck Warnings: 0