Package: motifmatchr Version: 1.28.0 Command: /Library/Frameworks/R.framework/Resources/bin/R CMD INSTALL motifmatchr StartedAt: 2025-02-03 15:47:43 -0500 (Mon, 03 Feb 2025) EndedAt: 2025-02-03 15:49:57 -0500 (Mon, 03 Feb 2025) EllapsedTime: 133.8 seconds RetCode: 0 Status: OK