Package: motifmatchr Version: 1.28.0 Command: /home/biocbuild/bbs-3.20-bioc/R/bin/R CMD build --keep-empty-dirs --no-resave-data --md5 motifmatchr StartedAt: 2025-02-03 18:20:31 -0500 (Mon, 03 Feb 2025) EndedAt: 2025-02-03 18:22:25 -0500 (Mon, 03 Feb 2025) EllapsedTime: 114.1 seconds RetCode: 0 Status: OK PackageFile: motifmatchr_1.28.0.tar.gz PackageFileSize: 53.69 KiB