Package: motifmatchr Version: 1.28.0 Command: /home/biocbuild/bbs-3.20-bioc/R/bin/R CMD INSTALL motifmatchr StartedAt: 2025-02-03 15:33:50 -0500 (Mon, 03 Feb 2025) EndedAt: 2025-02-03 15:34:57 -0500 (Mon, 03 Feb 2025) EllapsedTime: 66.8 seconds RetCode: 0 Status: OK