Package: motifmatchr Version: 1.28.0 Command: chmod a+r motifmatchr -R && F:\biocbuild\bbs-3.20-bioc\R\bin\R.exe CMD build --keep-empty-dirs --no-resave-data motifmatchr StartedAt: 2025-02-03 20:32:47 -0500 (Mon, 03 Feb 2025) EndedAt: 2025-02-03 20:39:31 -0500 (Mon, 03 Feb 2025) EllapsedTime: 404.6 seconds RetCode: 0 Status: OK PackageFile: motifmatchr_1.28.0.tar.gz PackageFileSize: 52.16 KiB