Package: motifmatchr Version: 1.28.0 Command: /home/biocbuild/R/R/bin/R CMD INSTALL motifmatchr StartedAt: 2025-02-03 20:43:56 -0000 (Mon, 03 Feb 2025) EndedAt: 2025-02-03 20:45:18 -0000 (Mon, 03 Feb 2025) EllapsedTime: 82.1 seconds RetCode: 0 Status: OK