Package: mpra Version: 1.28.0 Command: /Library/Frameworks/R.framework/Resources/bin/R CMD build --keep-empty-dirs --no-resave-data mpra StartedAt: 2025-02-04 04:05:49 -0500 (Tue, 04 Feb 2025) EndedAt: 2025-02-04 04:06:51 -0500 (Tue, 04 Feb 2025) EllapsedTime: 61.4 seconds RetCode: 0 Status: OK PackageFile: mpra_1.28.0.tar.gz PackageFileSize: 3.331 MiB