Package: mpra Version: 1.28.0 Command: /Library/Frameworks/R.framework/Resources/bin/R CMD INSTALL mpra StartedAt: 2025-02-03 15:33:28 -0500 (Mon, 03 Feb 2025) EndedAt: 2025-02-03 15:33:42 -0500 (Mon, 03 Feb 2025) EllapsedTime: 13.6 seconds RetCode: 0 Status: OK