Package: mpra Version: 1.28.0 Command: /Library/Frameworks/R.framework/Resources/bin/R CMD build --keep-empty-dirs --no-resave-data mpra StartedAt: 2025-02-03 20:35:58 -0500 (Mon, 03 Feb 2025) EndedAt: 2025-02-03 20:38:05 -0500 (Mon, 03 Feb 2025) EllapsedTime: 127.3 seconds RetCode: 0 Status: OK PackageFile: mpra_1.28.0.tar.gz PackageFileSize: 3.329 MiB