Package: mpra Version: 1.28.0 Command: /Library/Frameworks/R.framework/Resources/bin/R CMD INSTALL mpra StartedAt: 2025-02-10 15:16:14 -0500 (Mon, 10 Feb 2025) EndedAt: 2025-02-10 15:17:08 -0500 (Mon, 10 Feb 2025) EllapsedTime: 53.5 seconds RetCode: 0 Status: OK