Package: mpra Version: 1.28.0 Command: /home/biocbuild/bbs-3.20-bioc/R/bin/R CMD check --install=check:mpra.install-out.txt --library=/home/biocbuild/bbs-3.20-bioc/R/site-library --timings mpra_1.28.0.tar.gz StartedAt: 2025-02-04 00:23:38 -0500 (Tue, 04 Feb 2025) EndedAt: 2025-02-04 00:26:52 -0500 (Tue, 04 Feb 2025) EllapsedTime: 194.2 seconds RetCode: 0 Status: OK CheckDir: mpra.Rcheck Warnings: 0