Package: mpra Version: 1.28.0 Command: rm -rf mpra.buildbin-libdir && mkdir mpra.buildbin-libdir && F:\biocbuild\bbs-3.20-bioc\R\bin\R.exe CMD INSTALL --build --library=mpra.buildbin-libdir mpra_1.28.0.tar.gz StartedAt: 2025-02-04 08:59:32 -0500 (Tue, 04 Feb 2025) EndedAt: 2025-02-04 09:00:06 -0500 (Tue, 04 Feb 2025) EllapsedTime: 34.7 seconds RetCode: 0 Status: OK PackageFile: mpra_1.28.0.zip PackageFileSize: 3.146 MiB