Package: mpra Version: 1.28.0 Command: F:\biocbuild\bbs-3.20-bioc\R\bin\R.exe CMD INSTALL mpra StartedAt: 2025-02-03 16:19:28 -0500 (Mon, 03 Feb 2025) EndedAt: 2025-02-03 16:19:56 -0500 (Mon, 03 Feb 2025) EllapsedTime: 28.0 seconds RetCode: 0 Status: OK