Package: mpra Version: 1.28.0 Command: /home/biocbuild/R/R/bin/R CMD INSTALL mpra StartedAt: 2025-02-03 20:31:09 -0000 (Mon, 03 Feb 2025) EndedAt: 2025-02-03 20:31:38 -0000 (Mon, 03 Feb 2025) EllapsedTime: 28.9 seconds RetCode: 0 Status: OK