Package: msImpute Version: 1.16.0 Command: rm -rf msImpute.buildbin-libdir && mkdir msImpute.buildbin-libdir && /Users/biocbuild/BBS/utils/build-universal.sh msImpute_1.16.0.tar.gz /Library/Frameworks/R.framework/Resources/bin/R msImpute.buildbin-libdir StartedAt: 2025-02-12 16:02:43 -0500 (Wed, 12 Feb 2025) EndedAt: 2025-02-12 16:03:20 -0500 (Wed, 12 Feb 2025) EllapsedTime: 37.0 seconds RetCode: 0 Status: OK PackageFile: msImpute_1.16.0.tgz PackageFileSize: 2.304 MiB