Package: msImpute Version: 1.16.0 Command: /Library/Frameworks/R.framework/Resources/bin/R CMD INSTALL msImpute StartedAt: 2025-02-03 17:45:11 -0500 (Mon, 03 Feb 2025) EndedAt: 2025-02-03 17:45:45 -0500 (Mon, 03 Feb 2025) EllapsedTime: 33.4 seconds RetCode: 0 Status: OK