Package: msImpute Version: 1.16.0 Command: /Library/Frameworks/R.framework/Resources/bin/R CMD check --install=check:msImpute.install-out.txt --library=/Library/Frameworks/R.framework/Resources/library --no-vignettes --timings msImpute_1.16.0.tar.gz StartedAt: 2025-02-11 07:02:14 -0500 (Tue, 11 Feb 2025) EndedAt: 2025-02-11 07:09:57 -0500 (Tue, 11 Feb 2025) EllapsedTime: 462.5 seconds RetCode: 0 Status: OK CheckDir: msImpute.Rcheck Warnings: 0