Package: msImpute Version: 1.16.0 Command: /home/biocbuild/bbs-3.20-bioc/R/bin/R CMD build --keep-empty-dirs --no-resave-data --md5 msImpute StartedAt: 2025-02-03 18:22:35 -0500 (Mon, 03 Feb 2025) EndedAt: 2025-02-03 18:23:40 -0500 (Mon, 03 Feb 2025) EllapsedTime: 65.0 seconds RetCode: 0 Status: OK PackageFile: msImpute_1.16.0.tar.gz PackageFileSize: 1.772 MiB