Package: msPurity Version: 1.32.0 Command: /Library/Frameworks/R.framework/Resources/bin/R CMD build --keep-empty-dirs --no-resave-data msPurity StartedAt: 2025-02-04 04:12:49 -0500 (Tue, 04 Feb 2025) EndedAt: 2025-02-04 04:22:30 -0500 (Tue, 04 Feb 2025) EllapsedTime: 580.4 seconds RetCode: 0 Status: OK PackageFile: msPurity_1.32.0.tar.gz PackageFileSize: 11.28 MiB