Package: msPurity Version: 1.32.0 Command: /Library/Frameworks/R.framework/Resources/bin/R CMD check --install=check:msPurity.install-out.txt --library=/Library/Frameworks/R.framework/Resources/library --no-vignettes --timings msPurity_1.32.0.tar.gz StartedAt: 2025-02-05 03:04:30 -0500 (Wed, 05 Feb 2025) EndedAt: 2025-02-05 03:17:41 -0500 (Wed, 05 Feb 2025) EllapsedTime: 791.1 seconds RetCode: 0 Status: OK CheckDir: msPurity.Rcheck Warnings: 0