Package: msPurity Version: 1.32.0 Command: rm -rf msPurity.buildbin-libdir && mkdir msPurity.buildbin-libdir && /Users/biocbuild/BBS/utils/build-universal.sh msPurity_1.32.0.tar.gz /Library/Frameworks/R.framework/Resources/bin/R msPurity.buildbin-libdir StartedAt: 2025-01-24 15:31:53 -0500 (Fri, 24 Jan 2025) EndedAt: 2025-01-24 15:32:30 -0500 (Fri, 24 Jan 2025) EllapsedTime: 36.8 seconds RetCode: 0 Status: OK PackageFile: msPurity_1.32.0.tgz PackageFileSize: 11.41 MiB