Package: msPurity Version: 1.32.0 Command: rm -rf msPurity.buildbin-libdir && mkdir msPurity.buildbin-libdir && F:\biocbuild\bbs-3.20-bioc\R\bin\R.exe CMD INSTALL --build --library=msPurity.buildbin-libdir msPurity_1.32.0.tar.gz StartedAt: 2025-02-04 09:00:29 -0500 (Tue, 04 Feb 2025) EndedAt: 2025-02-04 09:01:37 -0500 (Tue, 04 Feb 2025) EllapsedTime: 68.4 seconds RetCode: 0 Status: OK PackageFile: msPurity_1.32.0.zip PackageFileSize: 11.34 MiB