Package: msPurity Version: 1.32.0 Command: chmod a+r msPurity -R && F:\biocbuild\bbs-3.20-bioc\R\bin\R.exe CMD build --keep-empty-dirs --no-resave-data msPurity StartedAt: 2025-02-03 20:36:50 -0500 (Mon, 03 Feb 2025) EndedAt: 2025-02-03 20:47:57 -0500 (Mon, 03 Feb 2025) EllapsedTime: 667.0 seconds RetCode: 0 Status: OK PackageFile: msPurity_1.32.0.tar.gz PackageFileSize: 11.28 MiB