Package: msPurity Version: 1.32.0 Command: F:\biocbuild\bbs-3.20-bioc\R\bin\R.exe CMD check --no-multiarch --install=check:msPurity.install-out.txt --library=F:\biocbuild\bbs-3.20-bioc\R\library --no-vignettes --timings msPurity_1.32.0.tar.gz StartedAt: 2025-02-04 04:07:13 -0500 (Tue, 04 Feb 2025) EndedAt: 2025-02-04 04:26:50 -0500 (Tue, 04 Feb 2025) EllapsedTime: 1177.1 seconds RetCode: 0 Status: OK CheckDir: msPurity.Rcheck Warnings: 0