Package: msPurity Version: 1.32.0 Command: /home/biocbuild/R/R/bin/R CMD build --keep-empty-dirs --no-resave-data msPurity StartedAt: 2025-02-04 01:14:24 -0000 (Tue, 04 Feb 2025) EndedAt: 2025-02-04 01:25:59 -0000 (Tue, 04 Feb 2025) EllapsedTime: 695.4 seconds RetCode: 0 Status: OK PackageFile: msPurity_1.32.0.tar.gz PackageFileSize: 11.48 MiB