Package: msPurity Version: 1.32.0 Command: /home/biocbuild/R/R/bin/R CMD INSTALL msPurity StartedAt: 2025-02-03 20:38:53 -0000 (Mon, 03 Feb 2025) EndedAt: 2025-02-03 20:39:15 -0000 (Mon, 03 Feb 2025) EllapsedTime: 21.6 seconds RetCode: 0 Status: OK