Package: mslp Version: 1.8.0 Command: rm -rf mslp.buildbin-libdir && mkdir mslp.buildbin-libdir && /Users/biocbuild/BBS/utils/build-universal.sh mslp_1.8.0.tar.gz /Library/Frameworks/R.framework/Resources/bin/R mslp.buildbin-libdir StartedAt: 2025-02-05 16:48:55 -0500 (Wed, 05 Feb 2025) EndedAt: 2025-02-05 16:48:59 -0500 (Wed, 05 Feb 2025) EllapsedTime: 4.5 seconds RetCode: 0 Status: OK PackageFile: mslp_1.8.0.tgz PackageFileSize: 452.6 KiB