Package: mslp Version: 1.8.0 Command: /Library/Frameworks/R.framework/Resources/bin/R CMD build --keep-empty-dirs --no-resave-data mslp StartedAt: 2025-02-04 04:10:37 -0500 (Tue, 04 Feb 2025) EndedAt: 2025-02-04 04:11:20 -0500 (Tue, 04 Feb 2025) EllapsedTime: 42.7 seconds RetCode: 0 Status: OK PackageFile: mslp_1.8.0.tar.gz PackageFileSize: 407.4 KiB