Package: mslp Version: 1.8.0 Command: /Library/Frameworks/R.framework/Resources/bin/R CMD check --install=check:mslp.install-out.txt --library=/Library/Frameworks/R.framework/Resources/library --no-vignettes --timings mslp_1.8.0.tar.gz StartedAt: 2025-02-05 03:01:41 -0500 (Wed, 05 Feb 2025) EndedAt: 2025-02-05 03:03:07 -0500 (Wed, 05 Feb 2025) EllapsedTime: 86.4 seconds RetCode: 1 Status: ERROR CheckDir: mslp.Rcheck Warnings: NA