Package: msmsEDA Version: 1.44.0 Command: /Library/Frameworks/R.framework/Resources/bin/R CMD build --keep-empty-dirs --no-resave-data msmsEDA StartedAt: 2025-02-04 04:11:15 -0500 (Tue, 04 Feb 2025) EndedAt: 2025-02-04 04:12:18 -0500 (Tue, 04 Feb 2025) EllapsedTime: 62.7 seconds RetCode: 0 Status: OK PackageFile: msmsEDA_1.44.0.tar.gz PackageFileSize: 439.4 KiB