Package: msmsEDA Version: 1.44.0 Command: /Library/Frameworks/R.framework/Resources/bin/R CMD check --install=check:msmsEDA.install-out.txt --library=/Library/Frameworks/R.framework/Resources/library --no-vignettes --timings msmsEDA_1.44.0.tar.gz StartedAt: 2025-02-05 03:01:54 -0500 (Wed, 05 Feb 2025) EndedAt: 2025-02-05 03:04:30 -0500 (Wed, 05 Feb 2025) EllapsedTime: 156.0 seconds RetCode: 0 Status: OK CheckDir: msmsEDA.Rcheck Warnings: 0