Package: msmsEDA Version: 1.44.0 Command: /Library/Frameworks/R.framework/Resources/bin/R CMD INSTALL msmsEDA StartedAt: 2025-02-10 17:03:17 -0500 (Mon, 10 Feb 2025) EndedAt: 2025-02-10 17:03:58 -0500 (Mon, 10 Feb 2025) EllapsedTime: 40.9 seconds RetCode: 0 Status: OK