Package: msmsEDA Version: 1.44.0 Command: rm -rf msmsEDA.buildbin-libdir && mkdir msmsEDA.buildbin-libdir && /Users/biocbuild/BBS/utils/build-universal.sh msmsEDA_1.44.0.tar.gz /Library/Frameworks/R.framework/Resources/bin/R msmsEDA.buildbin-libdir StartedAt: 2025-02-04 13:32:51 -0500 (Tue, 04 Feb 2025) EndedAt: 2025-02-04 13:34:49 -0500 (Tue, 04 Feb 2025) EllapsedTime: 118.1 seconds RetCode: 0 Status: OK PackageFile: msmsEDA_1.44.0.tgz PackageFileSize: 495.9 KiB