Package: msmsEDA Version: 1.44.0 Command: /Library/Frameworks/R.framework/Resources/bin/R CMD build --keep-empty-dirs --no-resave-data msmsEDA StartedAt: 2025-02-03 20:38:51 -0500 (Mon, 03 Feb 2025) EndedAt: 2025-02-03 20:40:52 -0500 (Mon, 03 Feb 2025) EllapsedTime: 121.3 seconds RetCode: 0 Status: OK PackageFile: msmsEDA_1.44.0.tar.gz PackageFileSize: 439.4 KiB