Package: msmsEDA Version: 1.44.0 Command: /Library/Frameworks/R.framework/Resources/bin/R CMD check --install=check:msmsEDA.install-out.txt --library=/Library/Frameworks/R.framework/Resources/library --no-vignettes --timings msmsEDA_1.44.0.tar.gz StartedAt: 2025-02-11 07:02:50 -0500 (Tue, 11 Feb 2025) EndedAt: 2025-02-11 07:09:08 -0500 (Tue, 11 Feb 2025) EllapsedTime: 378.1 seconds RetCode: 0 Status: OK CheckDir: msmsEDA.Rcheck Warnings: 0