Package: msmsEDA Version: 1.44.0 Command: /home/biocbuild/bbs-3.20-bioc/R/bin/R CMD build --keep-empty-dirs --no-resave-data --md5 msmsEDA StartedAt: 2025-02-10 18:15:42 -0500 (Mon, 10 Feb 2025) EndedAt: 2025-02-10 18:16:28 -0500 (Mon, 10 Feb 2025) EllapsedTime: 46.0 seconds RetCode: 0 Status: OK PackageFile: msmsEDA_1.44.0.tar.gz PackageFileSize: 440 KiB