Package: msmsEDA Version: 1.44.0 Command: /home/biocbuild/bbs-3.20-bioc/R/bin/R CMD INSTALL msmsEDA StartedAt: 2025-02-03 15:45:54 -0500 (Mon, 03 Feb 2025) EndedAt: 2025-02-03 15:46:33 -0500 (Mon, 03 Feb 2025) EllapsedTime: 39.0 seconds RetCode: 0 Status: OK