Package: msmsEDA Version: 1.44.0 Command: chmod a+r msmsEDA -R && F:\biocbuild\bbs-3.20-bioc\R\bin\R.exe CMD build --keep-empty-dirs --no-resave-data msmsEDA StartedAt: 2025-02-10 20:30:11 -0500 (Mon, 10 Feb 2025) EndedAt: 2025-02-10 20:31:18 -0500 (Mon, 10 Feb 2025) EllapsedTime: 67.0 seconds RetCode: 0 Status: OK PackageFile: msmsEDA_1.44.0.tar.gz PackageFileSize: 335.8 KiB