Package: msmsEDA Version: 1.44.0 Command: F:\biocbuild\bbs-3.20-bioc\R\bin\R.exe CMD check --no-multiarch --install=check:msmsEDA.install-out.txt --library=F:\biocbuild\bbs-3.20-bioc\R\library --no-vignettes --timings msmsEDA_1.44.0.tar.gz StartedAt: 2025-02-04 04:05:45 -0500 (Tue, 04 Feb 2025) EndedAt: 2025-02-04 04:08:31 -0500 (Tue, 04 Feb 2025) EllapsedTime: 165.6 seconds RetCode: 0 Status: OK CheckDir: msmsEDA.Rcheck Warnings: 0