Package: msmsEDA Version: 1.44.0 Command: F:\biocbuild\bbs-3.20-bioc\R\bin\R.exe CMD INSTALL msmsEDA StartedAt: 2025-02-03 17:07:11 -0500 (Mon, 03 Feb 2025) EndedAt: 2025-02-03 17:07:54 -0500 (Mon, 03 Feb 2025) EllapsedTime: 42.8 seconds RetCode: 0 Status: OK